BEGIN:VCALENDAR
VERSION:2.0
PRODID:-//Augenblick Syklounge - ECPv6.15.13.1//NONSGML v1.0//EN
CALSCALE:GREGORIAN
METHOD:PUBLISH
X-ORIGINAL-URL:https://www.augenblick-skylounge.de
X-WR-CALDESC:Veranstaltungen für Augenblick Syklounge
REFRESH-INTERVAL;VALUE=DURATION:PT1H
X-Robots-Tag:noindex
X-PUBLISHED-TTL:PT1H
BEGIN:VTIMEZONE
TZID:Europe/Paris
BEGIN:DAYLIGHT
TZOFFSETFROM:+0100
TZOFFSETTO:+0200
TZNAME:CEST
DTSTART:20200329T010000
END:DAYLIGHT
BEGIN:STANDARD
TZOFFSETFROM:+0200
TZOFFSETTO:+0100
TZNAME:CET
DTSTART:20201025T010000
END:STANDARD
BEGIN:DAYLIGHT
TZOFFSETFROM:+0100
TZOFFSETTO:+0200
TZNAME:CEST
DTSTART:20210328T010000
END:DAYLIGHT
BEGIN:STANDARD
TZOFFSETFROM:+0200
TZOFFSETTO:+0100
TZNAME:CET
DTSTART:20211031T010000
END:STANDARD
BEGIN:DAYLIGHT
TZOFFSETFROM:+0100
TZOFFSETTO:+0200
TZNAME:CEST
DTSTART:20220327T010000
END:DAYLIGHT
BEGIN:STANDARD
TZOFFSETFROM:+0200
TZOFFSETTO:+0100
TZNAME:CET
DTSTART:20221030T010000
END:STANDARD
END:VTIMEZONE
BEGIN:VEVENT
DTSTART;TZID=Europe/Paris:20211119T190000
DTEND;TZID=Europe/Paris:20211119T220000
DTSTAMP:20260421T120304
CREATED:20211103T074145Z
LAST-MODIFIED:20211104T115049Z
UID:3718-1637348400-1637359200@www.augenblick-skylounge.de
SUMMARY:Wild & Wein
DESCRIPTION:Wildliebhaber kommen am 19. November ab 19.00 Uhr bei uns voll auf ihre Kosten. An diesem Freitag bieten wir ein 5-Gänge-Menü inklusive Weinbegleitung mit Sommelier Michael van den Höövel. Eine wahre Gaumenfreude für alle\, die gerne Wild essen und Wein genießen. Der Preis für 2 Personen liegt bei 109€. Im Preis enthalten ist neben der Weinbegleitung auch eine Flasche Wasser. Reservierungen sind bis zum 17.11. möglich. Einlass: 18.30 Uhr\, Beginn 19.00 Uhr \nReservierung erforderlich:\nFür alle Veranstaltungen ist eine Reservierung erforderlich. Diese kann montags bis donnerstags von 8-18 Uhr und freitags von 8-13 Uhr unter der Telefonnummer 02821-718-1740 oder via E-Mail \n        \n            in**@au******************.de\n            \n                \n                \n                \n            \n            \n                \n                \n                \n            \n        \n erfolgen. Bitte bedenken Sie\, dass der Einlass ins Restaurant nur mit der 3-G-Regelung möglich ist. Bitte halten Sie entsprechende Dokumente bereit.
URL:https://www.augenblick-skylounge.de/event/wild-wein
CATEGORIES:Specials,Themenabende
ATTACH;FMTTYPE=image/jpeg:https://www.augenblick-skylounge.de/wp-content/uploads/2021/11/211027_Augenblick_Wild_Foto2.jpg
END:VEVENT
END:VCALENDAR